BEGIN:VCALENDAR
VERSION:2.0
PRODID:-//Brotherhood - ECPv6.8.3//NONSGML v1.0//EN
CALSCALE:GREGORIAN
METHOD:PUBLISH
X-WR-CALNAME:Brotherhood
X-ORIGINAL-URL:https://brotherhoodministry.org
X-WR-CALDESC:Events for Brotherhood
REFRESH-INTERVAL;VALUE=DURATION:PT1H
X-Robots-Tag:noindex
X-PUBLISHED-TTL:PT1H
BEGIN:VTIMEZONE
TZID:UTC
BEGIN:STANDARD
TZOFFSETFROM:+0000
TZOFFSETTO:+0000
TZNAME:UTC
DTSTART:20220101T000000
END:STANDARD
END:VTIMEZONE
BEGIN:VEVENT
DTSTART;TZID=UTC:20220709T080000
DTEND;TZID=UTC:20220709T170000
DTSTAMP:20260422T091706
CREATED:20240607T085224Z
LAST-MODIFIED:20240607T085224Z
UID:2381-1657353600-1657386000@brotherhoodministry.org
SUMMARY:9 Jul 2022 @ Ensenada\, Baja California
DESCRIPTION:| Conquistando Fronteras
URL:https://brotherhoodministry.org/event/9-jul-2022-ensenada-baja-california/
LOCATION:Baja California
END:VEVENT
END:VCALENDAR