BEGIN:VCALENDAR
VERSION:2.0
PRODID:-//Brotherhood - ECPv6.8.3//NONSGML v1.0//EN
CALSCALE:GREGORIAN
METHOD:PUBLISH
X-WR-CALNAME:Brotherhood
X-ORIGINAL-URL:https://brotherhoodministry.org
X-WR-CALDESC:Events for Brotherhood
REFRESH-INTERVAL;VALUE=DURATION:PT1H
X-Robots-Tag:noindex
X-PUBLISHED-TTL:PT1H
BEGIN:VTIMEZONE
TZID:UTC
BEGIN:STANDARD
TZOFFSETFROM:+0000
TZOFFSETTO:+0000
TZNAME:UTC
DTSTART:20230101T000000
END:STANDARD
END:VTIMEZONE
BEGIN:VEVENT
DTSTART;VALUE=DATE:20230127
DTEND;VALUE=DATE:20230207
DTSTAMP:20260421T230351
CREATED:20230124T195140Z
LAST-MODIFIED:20230124T195140Z
UID:2275-1674777600-1675727999@brotherhoodministry.org
SUMMARY:Brotherhood & RSA @ El Salvador
DESCRIPTION:
URL:https://brotherhoodministry.org/event/brotherhood-rsa-el-salvador/
LOCATION:Skatepark @ El Salvador\, El Salvador
END:VEVENT
BEGIN:VEVENT
DTSTART;TZID=UTC:20230127T080000
DTEND;TZID=UTC:20230206T170000
DTSTAMP:20260421T230351
CREATED:20240607T085416Z
LAST-MODIFIED:20240607T085914Z
UID:2383-1674806400-1675702800@brotherhoodministry.org
SUMMARY:27 Ene - 6 Feb 2023 @ El Salvador
DESCRIPTION:| Con RSA
URL:https://brotherhoodministry.org/event/27-ene-6-feb-2023-el-salvador/
LOCATION:Baja California
END:VEVENT
END:VCALENDAR