BEGIN:VCALENDAR
VERSION:2.0
PRODID:-//Brotherhood - ECPv6.8.3//NONSGML v1.0//EN
CALSCALE:GREGORIAN
METHOD:PUBLISH
X-WR-CALNAME:Brotherhood
X-ORIGINAL-URL:https://brotherhoodministry.org
X-WR-CALDESC:Events for Brotherhood
REFRESH-INTERVAL;VALUE=DURATION:PT1H
X-Robots-Tag:noindex
X-PUBLISHED-TTL:PT1H
BEGIN:VTIMEZONE
TZID:UTC
BEGIN:STANDARD
TZOFFSETFROM:+0000
TZOFFSETTO:+0000
TZNAME:UTC
DTSTART:20230101T000000
END:STANDARD
END:VTIMEZONE
BEGIN:VEVENT
DTSTART;TZID=UTC:20230429T080000
DTEND;TZID=UTC:20230429T170000
DTSTAMP:20260422T222851
CREATED:20240607T090448Z
LAST-MODIFIED:20240607T090448Z
UID:2390-1682755200-1682787600@brotherhoodministry.org
SUMMARY:29 Abr 2023
DESCRIPTION:@  SLRC | Sonora
URL:https://brotherhoodministry.org/event/29-abr-2023/
LOCATION:Baja California
END:VEVENT
BEGIN:VEVENT
DTSTART;TZID=UTC:20230507T103000
DTEND;TZID=UTC:20230507T170000
DTSTAMP:20260422T222851
CREATED:20230506T011109Z
LAST-MODIFIED:20230506T011109Z
UID:2291-1683455400-1683478800@brotherhoodministry.org
SUMMARY:BAJA BMX
DESCRIPTION:
URL:https://brotherhoodministry.org/event/baja-bmx/
LOCATION:Ensenada\, Playa Hermosa\, Ensenada\, Mexico
ATTACH;FMTTYPE=image/jpeg:https://brotherhoodministry.org/wp-content/uploads/2023/05/BHARO.jpg
END:VEVENT
BEGIN:VEVENT
DTSTART;TZID=UTC:20230509T080000
DTEND;TZID=UTC:20230509T170000
DTSTAMP:20260422T222851
CREATED:20240604T055335Z
LAST-MODIFIED:20240604T055841Z
UID:2353-1683619200-1683651600@brotherhoodministry.org
SUMMARY:9 May 2023 -  Brotherhood @ Playa Hermosa 
DESCRIPTION:9 May 2023 – Brotherhood @ Playa Hermosa
URL:https://brotherhoodministry.org/event/9-may-2023-brotherhood-playa-hermosa/
LOCATION:Rosarito\, Carretera Federal\, Rosarito - Ensenada Supermanzana K38 5\, Campo Rodriguez\, 22740 Playas de Rosarito\, B.C.\, Mexico
END:VEVENT
BEGIN:VEVENT
DTSTART;VALUE=DATE:20240608
DTEND;VALUE=DATE:20240609
DTSTAMP:20260422T222851
CREATED:20240607T081210Z
LAST-MODIFIED:20240607T083034Z
UID:2365-1717804800-1717891199@brotherhoodministry.org
SUMMARY:Junio 8 Rocky Point\, 2024
DESCRIPTION:Puerto Peñasco\, Sonora \n\n\n\n\n\n\nBethel Church Arizona\n\n\n\n\n\n\n\n\n\n\n\n\n\nhttps://www.instagram.com/brotherhoodministries/
URL:https://brotherhoodministry.org/event/junio-8-rocky-point/
LOCATION:Baja California
END:VEVENT
BEGIN:VEVENT
DTSTART;VALUE=DATE:20240802
DTEND;VALUE=DATE:20240819
DTSTAMP:20260422T222851
CREATED:20240703T074842Z
LAST-MODIFIED:20240703T081852Z
UID:2396-1722556800-1724025599@brotherhoodministry.org
SUMMARY:RSA en Thailandia
DESCRIPTION:https://reidsaunders.org/
URL:https://brotherhoodministry.org/event/rsa-en-thailandia/
LOCATION:Thailandia\, RSA\, Thailand
ATTACH;FMTTYPE=image/png:https://brotherhoodministry.org/wp-content/uploads/2024/07/rsa_logo-04.png
END:VEVENT
BEGIN:VEVENT
DTSTART;TZID=UTC:20250824T130000
DTEND;TZID=UTC:20250824T170000
DTSTAMP:20260422T222851
CREATED:20250822T165702Z
LAST-MODIFIED:20250822T165702Z
UID:2419-1756040400-1756054800@brotherhoodministry.org
SUMMARY:Brotherhood show @ Riverside CA
DESCRIPTION:@adler_cromer \n@dannyvaldez4819 \n@alejoduranbmx
URL:https://brotherhoodministry.org/event/brotherhood-show-riverside-ca/
LOCATION:Riverside\, CA\, 1855\, Riverside\, CA\, United States
ATTACH;FMTTYPE=image/png:https://brotherhoodministry.org/wp-content/uploads/2025/08/bh-bike-1.png
END:VEVENT
BEGIN:VEVENT
DTSTART;TZID=UTC:20251025T113000
DTEND;TZID=UTC:20251025T163000
DTSTAMP:20260422T222851
CREATED:20250928T025554Z
LAST-MODIFIED:20251216T063354Z
UID:2422-1761391800-1761409800@brotherhoodministry.org
SUMMARY:FREE FALL CONCERT & BMX SHOW
DESCRIPTION:
URL:https://brotherhoodministry.org/event/free-fall-concert-bmx-show/
LOCATION:Rosarito\, Carretera Federal\, Rosarito - Ensenada Supermanzana K38 5\, Campo Rodriguez\, 22740 Playas de Rosarito\, B.C.\, Mexico
ATTACH;FMTTYPE=image/jpeg:https://brotherhoodministry.org/wp-content/uploads/2025/09/bmx.jpg
END:VEVENT
BEGIN:VEVENT
DTSTART;TZID=UTC:20251101T080000
DTEND;TZID=UTC:20251110T170000
DTSTAMP:20260422T222851
CREATED:20251108T061025Z
LAST-MODIFIED:20251108T061025Z
UID:2426-1761984000-1762794000@brotherhoodministry.org
SUMMARY:March for Jesus Uruguay
DESCRIPTION:
URL:https://brotherhoodministry.org/event/march-for-jesus-uruguay/
LOCATION:uruguay\, Uruguay
ATTACH;FMTTYPE=image/jpeg:https://brotherhoodministry.org/wp-content/uploads/2022/09/IMG_2220.jpg
END:VEVENT
BEGIN:VEVENT
DTSTART;TZID=UTC:20251214T153000
DTEND;TZID=UTC:20251214T210000
DTSTAMP:20260422T222851
CREATED:20251216T063250Z
LAST-MODIFIED:20251216T063250Z
UID:2430-1765726200-1765746000@brotherhoodministry.org
SUMMARY:Festival Feliz Cumpleaños Jesus @ Tecate
DESCRIPTION:
URL:https://brotherhoodministry.org/event/festival-feliz-cumpleanos-jesus-tecate/
LOCATION:Tecate\, Parque Miguel Hidalgo\, Tecate\, Baja California\, Mexico
ATTACH;FMTTYPE=image/jpeg:https://brotherhoodministry.org/wp-content/uploads/2025/12/flyer-tecate-14-12-25.jpg
END:VEVENT
END:VCALENDAR