BEGIN:VCALENDAR
VERSION:2.0
PRODID:-//Brotherhood - ECPv6.8.3//NONSGML v1.0//EN
CALSCALE:GREGORIAN
METHOD:PUBLISH
X-WR-CALNAME:Brotherhood
X-ORIGINAL-URL:https://brotherhoodministry.org
X-WR-CALDESC:Events for Brotherhood
REFRESH-INTERVAL;VALUE=DURATION:PT1H
X-Robots-Tag:noindex
X-PUBLISHED-TTL:PT1H
BEGIN:VTIMEZONE
TZID:UTC
BEGIN:STANDARD
TZOFFSETFROM:+0000
TZOFFSETTO:+0000
TZNAME:UTC
DTSTART:20220101T000000
END:STANDARD
END:VTIMEZONE
BEGIN:VEVENT
DTSTART;TZID=UTC:20220925T080000
DTEND;TZID=UTC:20221005T170000
DTSTAMP:20260422T022928
CREATED:20240607T084812Z
LAST-MODIFIED:20240607T084812Z
UID:2376-1664092800-1664989200@brotherhoodministry.org
SUMMARY:25 Sep - 5 Oct 2022  @ Latvia
DESCRIPTION:Con RSA
URL:https://brotherhoodministry.org/event/25-sep-5-oct-2022-latvia/
LOCATION:Baja California
END:VEVENT
END:VCALENDAR