BEGIN:VCALENDAR
VERSION:2.0
PRODID:-//Brotherhood - ECPv6.8.3//NONSGML v1.0//EN
CALSCALE:GREGORIAN
METHOD:PUBLISH
X-ORIGINAL-URL:https://brotherhoodministry.org
X-WR-CALDESC:Events for Brotherhood
REFRESH-INTERVAL;VALUE=DURATION:PT1H
X-Robots-Tag:noindex
X-PUBLISHED-TTL:PT1H
BEGIN:VTIMEZONE
TZID:UTC
BEGIN:STANDARD
TZOFFSETFROM:+0000
TZOFFSETTO:+0000
TZNAME:UTC
DTSTART:20230101T000000
END:STANDARD
END:VTIMEZONE
BEGIN:VEVENT
DTSTART;TZID=UTC:20230507T103000
DTEND;TZID=UTC:20230507T170000
DTSTAMP:20260421T143348
CREATED:20230506T011109Z
LAST-MODIFIED:20230506T011109Z
UID:2291-1683455400-1683478800@brotherhoodministry.org
SUMMARY:BAJA BMX
DESCRIPTION:
URL:https://brotherhoodministry.org/event/baja-bmx/
LOCATION:Ensenada\, Playa Hermosa\, Ensenada\, Mexico
ATTACH;FMTTYPE=image/jpeg:https://brotherhoodministry.org/wp-content/uploads/2023/05/BHARO.jpg
END:VEVENT
BEGIN:VEVENT
DTSTART;TZID=UTC:20230509T080000
DTEND;TZID=UTC:20230509T170000
DTSTAMP:20260421T143348
CREATED:20240604T055335Z
LAST-MODIFIED:20240604T055841Z
UID:2353-1683619200-1683651600@brotherhoodministry.org
SUMMARY:9 May 2023 -  Brotherhood @ Playa Hermosa 
DESCRIPTION:9 May 2023 – Brotherhood @ Playa Hermosa
URL:https://brotherhoodministry.org/event/9-may-2023-brotherhood-playa-hermosa/
LOCATION:Rosarito\, Carretera Federal\, Rosarito - Ensenada Supermanzana K38 5\, Campo Rodriguez\, 22740 Playas de Rosarito\, B.C.\, Mexico
END:VEVENT
END:VCALENDAR